BEGIN:VCALENDAR
VERSION:2.0
PRODID:-//FBINAA New York State &amp; Eastern Canada Chapter - ECPv5.2.1//NONSGML v1.0//EN
CALSCALE:GREGORIAN
METHOD:PUBLISH
X-WR-CALNAME:FBINAA New York State &amp; Eastern Canada Chapter
X-ORIGINAL-URL:https://nysecfbinaa.org
X-WR-CALDESC:Events for FBINAA New York State &amp; Eastern Canada Chapter
BEGIN:VTIMEZONE
TZID:UTC
BEGIN:STANDARD
TZOFFSETFROM:+0000
TZOFFSETTO:+0000
TZNAME:UTC
DTSTART:20220101T000000
END:STANDARD
END:VTIMEZONE
BEGIN:VEVENT
DTSTART;VALUE=DATE:20220918
DTEND;VALUE=DATE:20220922
DTSTAMP:20260425T160943
CREATED:20220624T234217Z
LAST-MODIFIED:20220810T051049Z
UID:1384-1663459200-1663804799@nysecfbinaa.org
SUMMARY:2022 NYSEC Chapter Training Conference
DESCRIPTION:FBI National Academy Associates\nNew York State/Eastern Canada Chapter \nSAVE THE DATE! \nFBINAA\nNew York State Eastern Canada Chapter\nTraining Conference\nSeptember 18-21\, 2022 \nResorts World Catskills Casino\n888 Resorts World Drive\nMonticello\, New York 12701\nContact number is (833) 586-9358 \nConference cost is $350 \nRooms are $119.00 per night\nIf you wish to reserve a room\, please use conference code 1669. Room registration is now available. \nComplete list of guest speakers and a full conference itinerary will be posted soon. \nQuestions can be emailed to nyec2022conference@gmail.com
URL:https://nysecfbinaa.org/event/2022-nysec-chapter-training-conference/
LOCATION:Resort World Catskills Casino\, 888 Resorts World Drive\, Monticello\, NY\, 12701\, United States
ATTACH;FMTTYPE=image/png:https://nysecfbinaa.org/wp-content/uploads/2022/06/resorts-world-catskills-logo.png
END:VEVENT
END:VCALENDAR