BEGIN:VCALENDAR
VERSION:2.0
PRODID:-//FBINAA New York State &amp; Eastern Canada Chapter - ECPv5.2.1//NONSGML v1.0//EN
CALSCALE:GREGORIAN
METHOD:PUBLISH
X-WR-CALNAME:FBINAA New York State &amp; Eastern Canada Chapter
X-ORIGINAL-URL:https://nysecfbinaa.org
X-WR-CALDESC:Events for FBINAA New York State &amp; Eastern Canada Chapter
BEGIN:VTIMEZONE
TZID:America/New_York
BEGIN:DAYLIGHT
TZOFFSETFROM:-0500
TZOFFSETTO:-0400
TZNAME:EDT
DTSTART:20250309T070000
END:DAYLIGHT
BEGIN:STANDARD
TZOFFSETFROM:-0400
TZOFFSETTO:-0500
TZNAME:EST
DTSTART:20251102T060000
END:STANDARD
END:VTIMEZONE
BEGIN:VEVENT
DTSTART;VALUE=DATE:20250711
DTEND;VALUE=DATE:20250712
DTSTAMP:20260421T085855
CREATED:20250115T022404Z
LAST-MODIFIED:20250320T203621Z
UID:2911-1752192000-1752278399@nysecfbinaa.org
SUMMARY:Day at the Races - Click for More Info\, Pay by May 20th
DESCRIPTION:Day at the Races \nJuly 11 \nLocation: Saratoga\, NY \nPoint of Contact: Darren Miller \nLink to Pay Online: https://zeffy.com/en-US/ticketing/2025-day-at-the-races-2 
URL:https://nysecfbinaa.org/event/day-at-the-races-date-in-july-tbd/
LOCATION:Saratoga Race Course\, 267 Union Ave\, Saratoga\, NY\, 12866\, United States
ATTACH;FMTTYPE=image/jpeg:https://nysecfbinaa.org/wp-content/uploads/2022/06/Saratoga_logo-810x430.d591d5ecfb0ffc5c0917ba2843346bc4-e1682430134407.jpg
END:VEVENT
END:VCALENDAR