BEGIN:VCALENDAR
VERSION:2.0
PRODID:-//FBINAA New York State &amp; Eastern Canada Chapter - ECPv5.2.1//NONSGML v1.0//EN
CALSCALE:GREGORIAN
METHOD:PUBLISH
X-WR-CALNAME:FBINAA New York State &amp; Eastern Canada Chapter
X-ORIGINAL-URL:https://nysecfbinaa.org
X-WR-CALDESC:Events for FBINAA New York State &amp; Eastern Canada Chapter
BEGIN:VTIMEZONE
TZID:America/New_York
BEGIN:DAYLIGHT
TZOFFSETFROM:-0500
TZOFFSETTO:-0400
TZNAME:EDT
DTSTART:20230312T070000
END:DAYLIGHT
BEGIN:STANDARD
TZOFFSETFROM:-0400
TZOFFSETTO:-0500
TZNAME:EST
DTSTART:20231105T060000
END:STANDARD
END:VTIMEZONE
BEGIN:VEVENT
DTSTART;VALUE=DATE:20230928
DTEND;VALUE=DATE:20230929
DTSTAMP:20260422T082539
CREATED:20230824T143954Z
LAST-MODIFIED:20230824T152556Z
UID:2368-1695859200-1695945599@nysecfbinaa.org
SUMMARY:HR-218/Roger W. Robinson Competitive Shoot - September 28\, 2023
DESCRIPTION:FBI National Academy Associates NYS/EC Chapter\nRoger W. Robinson Competitive Shoot \nSeptember 28\, 2023 \nThis year’s Roger W. Robinson Competitive Shoot will be held on Thursday\, September 28\, 2023\, at the ROCKLAND COUNTY POLICE FIREARMS TRAINING FACILITY\, Haverstraw\, NY. The address for the range is 2 Short Clove Rd\, Haverstraw\, NY 10927. The range is the back end of the Tilcon Quarry.  Call 845-364-8700 for any additional information regarding the range. \nRegistration will begin at 9:00 am.  The day’s program will begin promptly at 10:00 am\, followed by the firearms training component.  For those who are participating in the HR 218 certification course\, the cost is $50.00 for FBINAA members who are currently paid up on their dues\, and their guests. This fee also includes lunch. If you have any questions regarding your membership status\, contact Anthony Raganella at A.J.Raganella@gmail.com. For any member that is not paid up\, the cost for the HR-218 certification will be $75.00. This fee also includes lunch. It is strongly suggested to pay in advance using PayPal on the chapter’s website at (www.NYSECFBINAA.org). Payment can also be made on the day of the event.  Along with the HR-218\, there will be The Roger W. Robinson Competitive Shoot. Class size is limited; please pre-register with Lt. Kevin Quinn at:  k.quinn@clarkstownpd.org\, Tele# 845-639-5860. \nIf you pre-register: \n\nFill out the top portion: Affidavit\nfill out and sign: Release Waiver\nFill our and sign: Safety Form\nBring all forms with you on the day of the event. \n\nImmediately following the firearms training and competitive shoot\, lunch will be served at Norcina’s\, 186 N. Main St\, New City\, NY 10956.  Contact Lt. Kevin Quinn by September 16 if you plan to attend the Competitive shoot. You can still show up and register on the day of the event. \nNote to Shooters: \nYou must bring your own 38 cal.\, or .380 cal ammunition.
URL:https://nysecfbinaa.org/event/hr-218-roger-w-robinson-competitive-shoot-september-28-2023/
LOCATION:ROCKLAND COUNTY POLICE FIREARMS TRAINING FACILITY\, 2 Short Clove Rd\, Haverstraw\, NY\, 10927
END:VEVENT
END:VCALENDAR