BEGIN:VCALENDAR
VERSION:2.0
PRODID:-//FBINAA New York State &amp; Eastern Canada Chapter - ECPv5.2.1//NONSGML v1.0//EN
CALSCALE:GREGORIAN
METHOD:PUBLISH
X-WR-CALNAME:FBINAA New York State &amp; Eastern Canada Chapter
X-ORIGINAL-URL:https://nysecfbinaa.org
X-WR-CALDESC:Events for FBINAA New York State &amp; Eastern Canada Chapter
BEGIN:VTIMEZONE
TZID:America/New_York
BEGIN:DAYLIGHT
TZOFFSETFROM:-0500
TZOFFSETTO:-0400
TZNAME:EDT
DTSTART:20240310T070000
END:DAYLIGHT
BEGIN:STANDARD
TZOFFSETFROM:-0400
TZOFFSETTO:-0500
TZNAME:EST
DTSTART:20241103T060000
END:STANDARD
END:VTIMEZONE
BEGIN:VEVENT
DTSTART;VALUE=DATE:20241003
DTEND;VALUE=DATE:20241004
DTSTAMP:20260422T083637
CREATED:20240812T224306Z
LAST-MODIFIED:20240812T224306Z
UID:2848-1727913600-1727999999@nysecfbinaa.org
SUMMARY:Roger W. Robinson Shoot (Rockland County Shoot) - Thursday\, October 3\, 2024
DESCRIPTION:FBI National Academy Associates NYS/EC Chapter\nRoger W. Robinson Competitive Shoot\nOctober 3\, 2024 \nThis year’s Roger W. Robinson Competitive Shoot will be held on Thursday\, October 3\, 2024\, at the ROCKLAND COUNTY POLICE FIREARMS TRAINING FACILITY\, Haverstraw\, NY. The address for the range is 2 Short Clove Rd\, Haverstraw\, NY 10927. The range is the back end of the Tilcon Quarry. Call 845-364-8700 for any additional information regarding the range. \nRegistration will begin at 9:00 am. The day’s program will begin promptly at 10:00 am\, followed by the firearms training component. For those who are participating in the HR 218 certification course\, the cost is $50.00 for FBINAA members who are currently paid up on their dues\, and their guests. This fee also includes lunch. Please use the link below to register.   Payment can also be made by check or cash on the day of the event. Along with the HR-218\, there will be The Roger W. Robinson Competitive Shoot. Class size is limited; pre-registration is preferred.  Contact Lt. Kevin Quinn at: k.quinn@clarkstownpd.org\, Tele# 845-639-5860 if you have any questions. \nImmediately following the firearms training and competitive shoot\, lunch will be served at Norcina’s\, 186 N. Main St\, New City\, NY 10956. Contact Lt. Kevin Quinn by September 16 if you plan to attend the Competitive shoot. You can still show up and register on the day of the event. \nNote to Shooters: You must bring your own 38 cal.\, or .380 cal ammunition. \n\nClick Here To Register
URL:https://nysecfbinaa.org/event/roger-w-robinson-shoot-rockland-county-shoot-thursday-october-3-2024/
LOCATION:ROCKLAND COUNTY POLICE FIREARMS TRAINING FACILITY\, 2 Short Clove Rd\, Haverstraw\, NY\, 10927
END:VEVENT
END:VCALENDAR