BEGIN:VCALENDAR
VERSION:2.0
PRODID:-//FBINAA New York State &amp; Eastern Canada Chapter - ECPv5.2.1//NONSGML v1.0//EN
CALSCALE:GREGORIAN
METHOD:PUBLISH
X-WR-CALNAME:FBINAA New York State &amp; Eastern Canada Chapter
X-ORIGINAL-URL:https://nysecfbinaa.org
X-WR-CALDESC:Events for FBINAA New York State &amp; Eastern Canada Chapter
BEGIN:VTIMEZONE
TZID:UTC
BEGIN:STANDARD
TZOFFSETFROM:+0000
TZOFFSETTO:+0000
TZNAME:UTC
DTSTART:20220101T000000
END:STANDARD
END:VTIMEZONE
BEGIN:VEVENT
DTSTART;TZID=UTC:20220316T180000
DTEND;TZID=UTC:20220316T220000
DTSTAMP:20260425T100048
CREATED:20220216T163756Z
LAST-MODIFIED:20220316T021326Z
UID:1104-1647453600-1647468000@nysecfbinaa.org
SUMMARY:St. Patrick’s Day Debriefing – March 16\, 2022
DESCRIPTION:
URL:https://nysecfbinaa.org/event/st-patricks-day-debriefing-march-16-2022/
LOCATION:6 west 33rd Street Manhattan
END:VEVENT
END:VCALENDAR